BEGIN:VCALENDAR
VERSION:2.0
PRODID:-//SOCA-FBC - ECPv6.15.17.1//NONSGML v1.0//EN
CALSCALE:GREGORIAN
METHOD:PUBLISH
X-WR-CALNAME:SOCA-FBC
X-ORIGINAL-URL:https://soca-fbc.org
X-WR-CALDESC:Events for SOCA-FBC
REFRESH-INTERVAL;VALUE=DURATION:PT1H
X-Robots-Tag:noindex
X-PUBLISHED-TTL:PT1H
BEGIN:VTIMEZONE
TZID:UTC
BEGIN:STANDARD
TZOFFSETFROM:+0000
TZOFFSETTO:+0000
TZNAME:UTC
DTSTART:20240101T000000
END:STANDARD
END:VTIMEZONE
BEGIN:VEVENT
DTSTART;TZID=UTC:20251213T120000
DTEND;TZID=UTC:20251213T150000
DTSTAMP:20260423T221804
CREATED:20251204T000805Z
LAST-MODIFIED:20251211T010752Z
UID:5912-1765627200-1765638000@soca-fbc.org
SUMMARY:SOCA Adoption Event with Santa - PetSmart Fulshear
DESCRIPTION:12 pm – 3 pm\nThe Crossing at Katy/Fulshear\, 26960 FM 1093 \nCome meet Santa and get your picture taken with some of SOCA’s adoptables. \nNote that we don’t do on the spot adoptions. Applications are available at www.soca-fbc.org/adoptables.
URL:https://soca-fbc.org/event/soca-adoption-event-petsmart-fulshear-17-copy-copy-copy-copy-copy-copy-copy-2-copy-copy-copy-copy-copy-copy-copy-copy-copy-copy-copy-copy-copy-copy-copy-copy-copy-copy-copy-copy-copy-copy-2-copy-c-13/
LOCATION:PetSmart – The Crossing at Katy/Fulshear\, 26960 FM 1093\, Richmond\, TX
END:VEVENT
END:VCALENDAR