BEGIN:VCALENDAR
VERSION:2.0
PRODID:-//SOCA-FBC - ECPv6.15.17.1//NONSGML v1.0//EN
CALSCALE:GREGORIAN
METHOD:PUBLISH
X-WR-CALNAME:SOCA-FBC
X-ORIGINAL-URL:https://soca-fbc.org
X-WR-CALDESC:Events for SOCA-FBC
REFRESH-INTERVAL;VALUE=DURATION:PT1H
X-Robots-Tag:noindex
X-PUBLISHED-TTL:PT1H
BEGIN:VTIMEZONE
TZID:UTC
BEGIN:STANDARD
TZOFFSETFROM:+0000
TZOFFSETTO:+0000
TZNAME:UTC
DTSTART:20240101T000000
END:STANDARD
END:VTIMEZONE
BEGIN:VEVENT
DTSTART;TZID=UTC:20251206T120000
DTEND;TZID=UTC:20251206T150000
DTSTAMP:20260423T202421
CREATED:20251204T000521Z
LAST-MODIFIED:20251204T000611Z
UID:5910-1765022400-1765033200@soca-fbc.org
SUMMARY:SOCA Adoption Event - Petco Rosenberg
DESCRIPTION:Brazos Town Center\, 23710 Commercial Drive\nRosenberg\, TX\n12 pm – 3 pm \nCome meet some of our adoptables and fall in love with your new best friend. \nNote that we don’t do on the spot adoptions. Applications are available at www.soca-fbc.org/adoptables. \n 
URL:https://soca-fbc.org/event/soca-adoption-event-petco-rosenberg-9-copy-2-copy-copy-copy-copy-copy-2-copy-copy-copy-copy-copy-copy-copy-2-copy-copy-copy-copy-copy-copy-copy-copy-copy-copy-copy-copy-copy-copy-copy-copy-copy-cop-72/
LOCATION:Petco – Rosenberg\, Brazos Town Center\, 23710 Commercial Drive\, Rosenberg\, TX\, 77471
END:VEVENT
END:VCALENDAR